BEGIN:VCALENDAR
VERSION:2.0
PRODID:-//ChurchDev//Events//EN
CALSCALE:GREGORIAN
METHOD:PUBLISH
BEGIN:VEVENT
UID:2935-20200413@www.tacgvny.net
SUMMARY:Food/Utility distribution
DTSTART:20200413T150000Z
DTEND:20200413T170000Z
DESCRIPTION:https://www.tacgvny.net/events/food-utility-distribution/
LOCATION:1565-1571 Ralph Avenue Brooklyn\, NY 11236
URL:https://www.tacgvny.net/events/food-utility-distribution/
DTSTAMP:20260419T201735Z
END:VEVENT
END:VCALENDAR
