BEGIN:VCALENDAR
VERSION:2.0
PRODID:-//ChurchDev//Events//EN
CALSCALE:GREGORIAN
METHOD:PUBLISH
BEGIN:VEVENT
UID:2936-20200406@www.tacgvny.net
SUMMARY:Monday Prayer
DTSTART:20200406T230000Z
DTEND:20200407T000000Z
DESCRIPTION:https://www.tacgvny.net/events/monday-prayer/
LOCATION:1565-1571 Ralph Avenue Brooklyn\, NY 11236
URL:https://www.tacgvny.net/events/monday-prayer/
DTSTAMP:20260419T201805Z
END:VEVENT
END:VCALENDAR
