BEGIN:VCALENDAR
VERSION:2.0
PRODID:-//ChurchDev//Events//EN
CALSCALE:GREGORIAN
METHOD:PUBLISH
BEGIN:VEVENT
UID:2937-20200407@www.tacgvny.net
SUMMARY:Bible Study
DTSTART:20200407T230000Z
DTEND:20200408T010000Z
DESCRIPTION:https://www.tacgvny.net/events/bible-study/
LOCATION:1565-1571 Ralph Avenue Brooklyn\, NY 11236
URL:https://www.tacgvny.net/events/bible-study/
DTSTAMP:20260419T201805Z
END:VEVENT
END:VCALENDAR
