BEGIN:VCALENDAR
VERSION:2.0
PRODID:-//ChurchDev//Events//EN
CALSCALE:GREGORIAN
METHOD:PUBLISH
BEGIN:VEVENT
UID:2938-20200405@www.tacgvny.net
SUMMARY:Sunday School
DTSTART:20200405T140000Z
DTEND:20200405T150000Z
DESCRIPTION:https://www.tacgvny.net/events/sunday-school/
LOCATION:1565-1571 Ralph Avenue Brooklyn\, NY 11236
URL:https://www.tacgvny.net/events/sunday-school/
DTSTAMP:20260419T201804Z
END:VEVENT
END:VCALENDAR
