BEGIN:VCALENDAR
VERSION:2.0
PRODID:-//ChurchDev//Events//EN
CALSCALE:GREGORIAN
METHOD:PUBLISH
BEGIN:VEVENT
UID:2939-20200405@www.tacgvny.net
SUMMARY:Sunday Service
DTSTART:20200406T030000Z
DTEND:20200406T170000Z
DESCRIPTION:https://www.tacgvny.net/events/sunday-service/
LOCATION:1565-1571 Ralph Avenue Brooklyn\, NY 11236
URL:https://www.tacgvny.net/events/sunday-service/
DTSTAMP:20260419T201804Z
END:VEVENT
END:VCALENDAR
