BEGIN:VCALENDAR
VERSION:2.0
PRODID:-//ChurchDev//Events//EN
CALSCALE:GREGORIAN
METHOD:PUBLISH
BEGIN:VEVENT
UID:2940-20200401@www.tacgvny.net
SUMMARY:Walking with God
DTSTART:20200401T230000Z
DTEND:20200402T003000Z
DESCRIPTION:https://www.tacgvny.net/events/walking-with-god/
LOCATION:1565-1571 Ralph Avenue Brooklyn\, NY 11236
URL:https://www.tacgvny.net/events/walking-with-god/
DTSTAMP:20260419T201735Z
END:VEVENT
END:VCALENDAR
