BEGIN:VCALENDAR
VERSION:2.0
PRODID:-//ChurchDev//Events//EN
CALSCALE:GREGORIAN
METHOD:PUBLISH
BEGIN:VEVENT
UID:2941-20200424@www.tacgvny.net
SUMMARY:Thanksgiving to God
DTSTART:20200425T000000Z
DTEND:20200425T020000Z
DESCRIPTION:https://www.tacgvny.net/events/thanksgiving-to-god/
LOCATION:1565-1571 Ralph Avenue Brooklyn\, NY 11236
URL:https://www.tacgvny.net/events/thanksgiving-to-god/
DTSTAMP:20260419T201736Z
END:VEVENT
END:VCALENDAR
