BEGIN:VCALENDAR
VERSION:2.0
PRODID:-//ChurchDev//Events//EN
CALSCALE:GREGORIAN
METHOD:PUBLISH
BEGIN:VEVENT
UID:2942-20200405@www.tacgvny.net
SUMMARY:Elders Meeting
DTSTART;VALUE=DATE:20200405
DTEND;VALUE=DATE:20200406
DESCRIPTION:https://www.tacgvny.net/events/elders-meeting/
LOCATION:1565-1571 Ralph Avenue Brooklyn\, NY 11236
URL:https://www.tacgvny.net/events/elders-meeting/
DTSTAMP:20260419T201802Z
END:VEVENT
END:VCALENDAR
