BEGIN:VCALENDAR
VERSION:2.0
PRODID:-//ChurchDev//Events//EN
CALSCALE:GREGORIAN
METHOD:PUBLISH
BEGIN:VEVENT
UID:2943-20200412@www.tacgvny.net
SUMMARY:Men&#8217\;s Meeting
DTSTART;VALUE=DATE:20200412
DTEND;VALUE=DATE:20200413
DESCRIPTION:https://www.tacgvny.net/events/mens-meeting/
LOCATION:1565-1571 Ralph Avenue Brooklyn\, NY 11236
URL:https://www.tacgvny.net/events/mens-meeting/
DTSTAMP:20260419T201804Z
END:VEVENT
END:VCALENDAR
