BEGIN:VCALENDAR
VERSION:2.0
PRODID:-//ChurchDev//Events//EN
CALSCALE:GREGORIAN
METHOD:PUBLISH
BEGIN:VEVENT
UID:2944-20200418@www.tacgvny.net
SUMMARY:Men&#8217\;s seminar
DTSTART;VALUE=DATE:20200418
DTEND;VALUE=DATE:20200419
DESCRIPTION:https://www.tacgvny.net/events/mens-seminar/
LOCATION:1565-1571 Ralph Avenue Brooklyn\, NY 11236
URL:https://www.tacgvny.net/events/mens-seminar/
DTSTAMP:20260419T201735Z
END:VEVENT
END:VCALENDAR
