BEGIN:VCALENDAR
VERSION:2.0
PRODID:-//ChurchDev//Events//EN
CALSCALE:GREGORIAN
METHOD:PUBLISH
BEGIN:VEVENT
UID:2945-20200410@www.tacgvny.net
SUMMARY:Men&#8217\;s vigil
DTSTART;VALUE=DATE:20200410
DTEND;VALUE=DATE:20200411
DESCRIPTION:https://www.tacgvny.net/events/mens-vigil/
LOCATION:1565-1571 Ralph Avenue Brooklyn\, NY 11236
URL:https://www.tacgvny.net/events/mens-vigil/
DTSTAMP:20260419T201736Z
END:VEVENT
END:VCALENDAR
