BEGIN:VCALENDAR
VERSION:2.0
PRODID:-//ChurchDev//Events//EN
CALSCALE:GREGORIAN
METHOD:PUBLISH
BEGIN:VEVENT
UID:2946-20200418@www.tacgvny.net
SUMMARY:Women&#8217\;s Meeting
DTSTART:20200418T140000Z
DTEND:20200419T040000Z
DESCRIPTION:https://www.tacgvny.net/events/womens-meeting/
LOCATION:1565-1571 Ralph Avenue Brooklyn\, NY 11236
URL:https://www.tacgvny.net/events/womens-meeting/
DTSTAMP:20260419T201806Z
END:VEVENT
END:VCALENDAR
