BEGIN:VCALENDAR
VERSION:2.0
PRODID:-//ChurchDev//Events//EN
CALSCALE:GREGORIAN
METHOD:PUBLISH
BEGIN:VEVENT
UID:2947-20200410@www.tacgvny.net
SUMMARY:Prayer Vigil
DTSTART:20200411T000000Z
DTEND:20200411T010000Z
DESCRIPTION:https://www.tacgvny.net/events/prayer-vigil/
LOCATION:1565-1571 Ralph Avenue Brooklyn\, NY 11236
URL:https://www.tacgvny.net/events/prayer-vigil/
DTSTAMP:20260419T201735Z
END:VEVENT
END:VCALENDAR
