BEGIN:VCALENDAR
VERSION:2.0
PRODID:-//ChurchDev//Events//EN
CALSCALE:GREGORIAN
METHOD:PUBLISH
BEGIN:VEVENT
UID:2951-20200417@www.tacgvny.net
SUMMARY:Youth Meeting
DTSTART:20200417T230000Z
DTEND:20200418T010000Z
DESCRIPTION:https://www.tacgvny.net/events/youth-meeting-2/
LOCATION:1565-1571 Ralph Avenue Brooklyn\, NY 11236
URL:https://www.tacgvny.net/events/youth-meeting-2/
DTSTAMP:20260419T201801Z
END:VEVENT
END:VCALENDAR
