BEGIN:VCALENDAR
VERSION:2.0
PRODID:-//ChurchDev//Events//EN
CALSCALE:GREGORIAN
METHOD:PUBLISH
BEGIN:VEVENT
UID:2952-20200404@www.tacgvny.net
SUMMARY:Choir Meeting
DTSTART:20200405T040000Z
DTEND:20200405T190000Z
DESCRIPTION:https://www.tacgvny.net/events/choir-meeting/
LOCATION:1565-1571 Ralph Avenue Brooklyn\, NY 11236
URL:https://www.tacgvny.net/events/choir-meeting/
DTSTAMP:20260419T201735Z
END:VEVENT
END:VCALENDAR
